BEGIN:VCALENDAR
VERSION:2.0
PRODID:icalendar-ruby
CALSCALE:GREGORIAN
METHOD:PUBLISH
BEGIN:VEVENT
DTSTAMP:20260422T003447Z
UID:9-431882@winfieldwvumc.org
DTSTART:20260923T231500Z
DTEND:20260924T001500Z
CLASS:PUBLIC
CREATED:20260421T184724
DESCRIPTION:Chancel Choir Practice
LAST-MODIFIED:20260421T184724
LOCATION:20 Radwin Dr  WInfield
SUMMARY:Chancel Choir Practice
URL;VALUE=URI:https://www.winfieldwvumc.org/events/chancel-choir-practice/2
 026-09-23
END:VEVENT
END:VCALENDAR
