BEGIN:VCALENDAR
VERSION:2.0
PRODID:icalendar-ruby
CALSCALE:GREGORIAN
METHOD:PUBLISH
BEGIN:VEVENT
DTSTAMP:20260422T020812Z
UID:9-432224@winfieldwvumc.org
DTSTART:20260930T231500Z
DTEND:20261001T001500Z
CLASS:PUBLIC
CREATED:20260421T212603
DESCRIPTION:Chancel Choir Practice
LAST-MODIFIED:20260421T212603
LOCATION:20 Radwin Dr  WInfield
SUMMARY:Chancel Choir Practice
URL;VALUE=URI:https://www.winfieldwvumc.org/events/chancel-choir-practice/2
 026-09-30
END:VEVENT
END:VCALENDAR
